BEGIN:VCALENDAR
VERSION:2.0
PRODID:-//Rotary - Distrito 4895 - ECPv6.15.20//NONSGML v1.0//EN
CALSCALE:GREGORIAN
METHOD:PUBLISH
X-ORIGINAL-URL:https://rotary4895.org
X-WR-CALDESC:Eventos para Rotary - Distrito 4895
REFRESH-INTERVAL;VALUE=DURATION:PT1H
X-Robots-Tag:noindex
X-PUBLISHED-TTL:PT1H
BEGIN:VTIMEZONE
TZID:America/Sao_Paulo
BEGIN:STANDARD
TZOFFSETFROM:-0300
TZOFFSETTO:-0300
TZNAME:-03
DTSTART:20250101T000000
END:STANDARD
END:VTIMEZONE
BEGIN:VEVENT
DTSTART;VALUE=DATE:20260418
DTEND;VALUE=DATE:20260419
DTSTAMP:20260422T081558
CREATED:20260404T135602Z
LAST-MODIFIED:20260404T135602Z
UID:12673-1776470400-1776556799@rotary4895.org
SUMMARY:Te Lírico con un poquito de sabor a tango
DESCRIPTION:VICTOR BETINOTTI- TENOR \nLILIANA VICO LIMA- MEZZOSOPRANO MARINA GARCIA PADILLA -SOPRANO \nDIRECCION:VICTOR BETINOTTI \nInvitado: FRANCISCO
URL:https://rotary4895.org/event/te-lirico-con-un-poquito-de-sabor-a-tango
ATTACH;FMTTYPE=image/jpeg:https://rotary4895.org/wp-content/uploads/2026/04/WhatsApp-Image-2026-04-02-at-16.45.28.jpeg
END:VEVENT
BEGIN:VEVENT
DTSTART;VALUE=DATE:20260418
DTEND;VALUE=DATE:20260419
DTSTAMP:20260422T081558
CREATED:20260411T013618Z
LAST-MODIFIED:20260411T013618Z
UID:12683-1776470400-1776556799@rotary4895.org
SUMMARY:TALLER PINTANDO SONRISAS
DESCRIPTION:Te invitamos a pintar juguetes en nuestra casa rotaria.
URL:https://rotary4895.org/event/taller-pintando-sonrisas-34
ATTACH;FMTTYPE=image/jpeg:https://rotary4895.org/wp-content/uploads/2026/04/WhatsApp-Image-2026-04-07-at-11.10.05.jpeg
END:VEVENT
BEGIN:VEVENT
DTSTART;VALUE=DATE:20260418
DTEND;VALUE=DATE:20260419
DTSTAMP:20260422T081558
CREATED:20260411T013828Z
LAST-MODIFIED:20260411T013828Z
UID:12693-1776470400-1776556799@rotary4895.org
SUMMARY:FIESTA
DESCRIPTION:¿TE ANIMAS A REVIVIR EL PASADO 8
URL:https://rotary4895.org/event/fiesta
ATTACH;FMTTYPE=image/jpeg:https://rotary4895.org/wp-content/uploads/2026/04/WhatsApp-Image-2026-04-06-at-20.14.10.jpeg
END:VEVENT
BEGIN:VEVENT
DTSTART;VALUE=DATE:20260418
DTEND;VALUE=DATE:20260419
DTSTAMP:20260422T081558
CREATED:20260412T122713Z
LAST-MODIFIED:20260412T122713Z
UID:12735-1776470400-1776556799@rotary4895.org
SUMMARY:59 aniversario. LOS INVITAMOS A CELEBRAR JUNTOS
DESCRIPTION:Cena Show
URL:https://rotary4895.org/event/59-aniversario-los-invitamos-a-celebrar-juntos
ATTACH;FMTTYPE=image/jpeg:https://rotary4895.org/wp-content/uploads/2026/04/WhatsApp-Image-2026-04-11-at-22.34.00.jpeg
END:VEVENT
BEGIN:VEVENT
DTSTART;VALUE=DATE:20260419
DTEND;VALUE=DATE:20260420
DTSTAMP:20260422T081558
CREATED:20260402T151054Z
LAST-MODIFIED:20260402T151054Z
UID:12652-1776556800-1776643199@rotary4895.org
SUMMARY:Compartamos junto a Canto Nuevo y su música un delicioso almuerzo con los ñoquis del 29 más ricos
DESCRIPTION:Actividad a beneficio del Centro de integración social \n«Hogar de Tránsito Cura Brochero»
URL:https://rotary4895.org/event/compartamos-junto-a-canto-nuevo-y-su-musica-un-delicioso-almuerzo-con-los-noquis-del-29-mas-ricos-2
ATTACH;FMTTYPE=image/jpeg:https://rotary4895.org/wp-content/uploads/2026/04/WhatsApp-Image-2026-03-25-at-10.45.12.jpeg
END:VEVENT
BEGIN:VEVENT
DTSTART;VALUE=DATE:20260419
DTEND;VALUE=DATE:20260420
DTSTAMP:20260422T081558
CREATED:20260418T153054Z
LAST-MODIFIED:20260418T205754Z
UID:12787-1776556800-1776643199@rotary4895.org
SUMMARY:Benvenuti in Argentina Francesco e Anna Maria Bienvenidos a Argentina Francesco y Anna Maria
DESCRIPTION:RESERVAS HASTA EL 19 DE ABRIL. Acompañanos en la cena que ofreceremos en su honor
URL:https://rotary4895.org/event/benvenuti-in-argentina-francesco-e-anna-maria-bienvenidos-a-argentina-francesco-y-anna-maria
ATTACH;FMTTYPE=image/jpeg:https://rotary4895.org/wp-content/uploads/2026/04/WhatsApp-Image-2026-04-16-at-19.06.18.jpeg
END:VEVENT
BEGIN:VEVENT
DTSTART;VALUE=DATE:20260420
DTEND;VALUE=DATE:20260421
DTSTAMP:20260422T081558
CREATED:20260402T150211Z
LAST-MODIFIED:20260402T150211Z
UID:12617-1776643200-1776729599@rotary4895.org
SUMMARY:CURSO MANDATARIO DEL AUTOMOTOR
DESCRIPTION:ESCUELA ROTARIA DE OFICIOS Y CAPACITACIÓN PROFESIONAL
URL:https://rotary4895.org/event/curso-mandatario-del-automotor
ATTACH;FMTTYPE=image/jpeg:https://rotary4895.org/wp-content/uploads/2026/04/WhatsApp-Image-2026-03-29-at-23.24.38.jpeg
END:VEVENT
BEGIN:VEVENT
DTSTART;VALUE=DATE:20260420
DTEND;VALUE=DATE:20260421
DTSTAMP:20260422T081558
CREATED:20260411T013717Z
LAST-MODIFIED:20260411T013717Z
UID:12688-1776643200-1776729599@rotary4895.org
SUMMARY:El desembarco...
DESCRIPTION:Disertación a cargo del \nCapitán de Navío de Infantería de Marina \nOscar Horacio Oulton \nVeterano de Malvinas
URL:https://rotary4895.org/event/el-desembarco
ATTACH;FMTTYPE=image/jpeg:https://rotary4895.org/wp-content/uploads/2026/04/WhatsApp-Image-2026-04-07-at-00.53.30.jpeg
END:VEVENT
BEGIN:VEVENT
DTSTART;TZID=America/Sao_Paulo:20260421T080000
DTEND;TZID=America/Sao_Paulo:20260421T170000
DTSTAMP:20260422T081558
CREATED:20260418T151836Z
LAST-MODIFIED:20260418T151836Z
UID:12757-1776758400-1776790800@rotary4895.org
SUMMARY:SUBVENCION DISTRITAL INSTITUTO LANARI
DESCRIPTION:Entrega de equipamiento para realizar cursos de RCP
URL:https://rotary4895.org/event/subvencion-distrital-instituto-lanari
ATTACH;FMTTYPE=image/jpeg:https://rotary4895.org/wp-content/uploads/2026/04/WhatsApp-Image-2026-04-13-at-10.01.25.jpeg
END:VEVENT
BEGIN:VEVENT
DTSTART;VALUE=DATE:20260422
DTEND;VALUE=DATE:20260423
DTSTAMP:20260422T081558
CREATED:20260411T014458Z
LAST-MODIFIED:20260411T014458Z
UID:12725-1776816000-1776902399@rotary4895.org
SUMMARY:FESTEJO DE NUESTRO 35 ANIVERSARIO
DESCRIPTION:Te esperamos para compartir una réunión de celebración y un momento a puro tango
URL:https://rotary4895.org/event/festejo-de-nuestro-35-aniversario
ATTACH;FMTTYPE=image/jpeg:https://rotary4895.org/wp-content/uploads/2026/04/WhatsApp-Image-2026-04-09-at-21.18.02.jpeg
END:VEVENT
BEGIN:VEVENT
DTSTART;VALUE=DATE:20260422
DTEND;VALUE=DATE:20260423
DTSTAMP:20260422T081558
CREATED:20260418T153146Z
LAST-MODIFIED:20260418T220650Z
UID:12792-1776816000-1776902399@rotary4895.org
SUMMARY:EL PODER DE LOS "DATOS" EN LA ERA DE LA IA
DESCRIPTION:Nelson Pérez Alonso
URL:https://rotary4895.org/event/el-poder-de-los-datos-en-la-era-de-la-ia
ATTACH;FMTTYPE=image/jpeg:https://rotary4895.org/wp-content/uploads/2026/04/WhatsApp-Image-2026-04-17-at-11.50.11.jpeg
END:VEVENT
BEGIN:VEVENT
DTSTART;VALUE=DATE:20260423
DTEND;VALUE=DATE:20260424
DTSTAMP:20260422T081558
CREATED:20260402T145731Z
LAST-MODIFIED:20260402T145731Z
UID:12597-1776902400-1776988799@rotary4895.org
SUMMARY:Visita Palacio Lagomarsino Ícono de "Art Nouveau" en Buenos Aires
DESCRIPTION:y un café en confitería cercana
URL:https://rotary4895.org/event/visita-palacio-lagomarsino-icono-de-art-nouveau-en-buenos-aires
ATTACH;FMTTYPE=image/jpeg:https://rotary4895.org/wp-content/uploads/2026/04/WhatsApp-Image-2026-04-02-at-10.09.27.jpeg
END:VEVENT
BEGIN:VEVENT
DTSTART;VALUE=DATE:20260423
DTEND;VALUE=DATE:20260424
DTSTAMP:20260422T081558
CREATED:20260411T014346Z
LAST-MODIFIED:20260411T014346Z
UID:12720-1776902400-1776988799@rotary4895.org
SUMMARY:CENA 24° ANIVERSARIO
DESCRIPTION:una noche de encuentro\, camaradería y celebración.
URL:https://rotary4895.org/event/cena-24-aniversario
ATTACH;FMTTYPE=image/jpeg:https://rotary4895.org/wp-content/uploads/2026/04/WhatsApp-Image-2026-04-09-at-18.57.29.jpeg
END:VEVENT
BEGIN:VEVENT
DTSTART;VALUE=DATE:20260423
DTEND;VALUE=DATE:20260424
DTSTAMP:20260422T081558
CREATED:20260418T151654Z
LAST-MODIFIED:20260418T151654Z
UID:12747-1776902400-1776988799@rotary4895.org
SUMMARY:ENTREGA DEL GALARDÓN A SCOUTS DE ARGENTINA
DESCRIPTION:LONA 48 \nViCENTE LÓPEZ
URL:https://rotary4895.org/event/entrega-del-galardon-a-scouts-de-argentina
ATTACH;FMTTYPE=image/jpeg:https://rotary4895.org/wp-content/uploads/2026/04/WhatsApp-Image-2026-04-13-at-10.00.36.jpeg
END:VEVENT
BEGIN:VEVENT
DTSTART;VALUE=DATE:20260423
DTEND;VALUE=DATE:20260424
DTSTAMP:20260422T081558
CREATED:20260418T151747Z
LAST-MODIFIED:20260418T151747Z
UID:12752-1776902400-1776988799@rotary4895.org
SUMMARY:CONCURSO LITERARIO 2025/26
DESCRIPTION:Invitamos a niños\, jóvenes y adultos de la comunidad a participar
URL:https://rotary4895.org/event/concurso-literario-2025-26
ATTACH;FMTTYPE=image/jpeg:https://rotary4895.org/wp-content/uploads/2026/04/WhatsApp-Image-2026-04-13-at-10.01.25-1.jpeg
END:VEVENT
BEGIN:VEVENT
DTSTART;VALUE=DATE:20260423
DTEND;VALUE=DATE:20260424
DTSTAMP:20260422T081558
CREATED:20260418T152733Z
LAST-MODIFIED:20260418T152733Z
UID:12772-1776902400-1776988799@rotary4895.org
SUMMARY:PEÑA FOLKLÓRICA
DESCRIPTION:A BENEFICIO DE LA CONSTRUCCIÓN DE LA ESCUELA DE ORIENTACIÓN DE \nOFICIOS ROTARIA
URL:https://rotary4895.org/event/pena-folklorica
ATTACH;FMTTYPE=image/jpeg:https://rotary4895.org/wp-content/uploads/2026/04/WhatsApp-Image-2026-04-13-at-21.00.20.jpeg
END:VEVENT
BEGIN:VEVENT
DTSTART;VALUE=DATE:20260423
DTEND;VALUE=DATE:20260424
DTSTAMP:20260422T081558
CREATED:20260418T152933Z
LAST-MODIFIED:20260418T152933Z
UID:12782-1776902400-1776988799@rotary4895.org
SUMMARY:ROCA 1898-1904\, UN PRESIDENTE INNOVADOR Y REFORMISTA
DESCRIPTION:GRAL. RAÚL J. ROMERO \nGeneral de Brigada – Doctor en Relaciones Internacionales Y Doctor en Ciencia Política
URL:https://rotary4895.org/event/roca-1898-1904-un-presidente-innovador-y-reformista
ATTACH;FMTTYPE=image/jpeg:https://rotary4895.org/wp-content/uploads/2026/04/WhatsApp-Image-2026-04-13-at-22.07.24.jpeg
END:VEVENT
BEGIN:VEVENT
DTSTART;VALUE=DATE:20260427
DTEND;VALUE=DATE:20260428
DTSTAMP:20260422T081558
CREATED:20260323T142511Z
LAST-MODIFIED:20260323T142511Z
UID:12551-1777248000-1777334399@rotary4895.org
SUMMARY:Benvenuti in Argentina Francesco e Anna Maria
DESCRIPTION:Reservá la fecha para acompañanos en la cena que ofreceremos en su honor
URL:https://rotary4895.org/event/benvenuti-in-argentina-francesco-e-anna-maria
ATTACH;FMTTYPE=image/jpeg:https://rotary4895.org/wp-content/uploads/2026/03/WhatsApp-Image-2026-03-17-at-01.13.34.jpeg
END:VEVENT
BEGIN:VEVENT
DTSTART;VALUE=DATE:20260428
DTEND;VALUE=DATE:20260429
DTSTAMP:20260422T081558
CREATED:20260411T014556Z
LAST-MODIFIED:20260411T014556Z
UID:12730-1777334400-1777420799@rotary4895.org
SUMMARY:DISERTACIÓN Y ALMUERZO SOLIDARIO
DESCRIPTION:Periodista reconocida por su cobertura internacional y su mirada sobre los escenarios del mundo actual
URL:https://rotary4895.org/event/disertacion-y-almuerzo-solidario
ATTACH;FMTTYPE=image/jpeg:https://rotary4895.org/wp-content/uploads/2026/04/WhatsApp-Image-2026-04-10-at-18.44.30.jpeg
END:VEVENT
BEGIN:VEVENT
DTSTART;VALUE=DATE:20260501
DTEND;VALUE=DATE:20260502
DTSTAMP:20260422T081558
CREATED:20260418T221406Z
LAST-MODIFIED:20260418T221406Z
UID:12804-1777593600-1777679999@rotary4895.org
SUMMARY:¡Llega la 1° Fiesta Regional del Guiso Campero!
DESCRIPTION:Galpones del Ferrocarril \nCapitán Sarmiento
URL:https://rotary4895.org/event/llega-la-1-fiesta-regional-del-guiso-campero
ATTACH;FMTTYPE=image/jpeg:https://rotary4895.org/wp-content/uploads/2026/04/111.jpg
END:VEVENT
BEGIN:VEVENT
DTSTART;VALUE=DATE:20260506
DTEND;VALUE=DATE:20260507
DTSTAMP:20260422T081558
CREATED:20260418T152638Z
LAST-MODIFIED:20260418T152638Z
UID:12767-1778025600-1778111999@rotary4895.org
SUMMARY:BINGO ROTARIO
DESCRIPTION:Lo recaudado será destinado a La Fundación Rotaria \na los proyectos de los clubes
URL:https://rotary4895.org/event/bingo-rotario
ATTACH;FMTTYPE=image/jpeg:https://rotary4895.org/wp-content/uploads/2026/04/WhatsApp-Image-2026-04-13-at-21.00.07.jpeg
END:VEVENT
BEGIN:VEVENT
DTSTART;VALUE=DATE:20260507
DTEND;VALUE=DATE:20260508
DTSTAMP:20260422T081558
CREATED:20260418T151602Z
LAST-MODIFIED:20260418T151602Z
UID:12742-1778112000-1778198399@rotary4895.org
SUMMARY:Celebremos juntos el 135° Aniversario del Barrio de Florida
DESCRIPTION:Charla \nFlorida: \nel origen de un pueblo \nAdriano Martín Dell’Orco
URL:https://rotary4895.org/event/celebremos-juntos-el-135-aniversario-del-barrio-de-florida
ATTACH;FMTTYPE=image/jpeg:https://rotary4895.org/wp-content/uploads/2026/04/WhatsApp-Image-2026-04-13-at-10.00.00.jpeg
END:VEVENT
BEGIN:VEVENT
DTSTART;VALUE=DATE:20260507
DTEND;VALUE=DATE:20260508
DTSTAMP:20260422T081558
CREATED:20260418T152843Z
LAST-MODIFIED:20260418T152843Z
UID:12777-1778112000-1778198399@rotary4895.org
SUMMARY:FIESTA 72°Aniversario
DESCRIPTION:Cierre de inscripción: martes 5 de mayo de 2026
URL:https://rotary4895.org/event/fiesta-72aniversario
ATTACH;FMTTYPE=image/jpeg:https://rotary4895.org/wp-content/uploads/2026/04/WhatsApp-Image-2026-04-15-at-22.10.17.jpeg
END:VEVENT
BEGIN:VEVENT
DTSTART;VALUE=DATE:20260508
DTEND;VALUE=DATE:20260509
DTSTAMP:20260422T081558
CREATED:20260418T152536Z
LAST-MODIFIED:20260418T152536Z
UID:12762-1778198400-1778284799@rotary4895.org
SUMMARY:Cena de Gala Solidaria
DESCRIPTION:HOTEL FOUR SEASONS BUENOS AIRES
URL:https://rotary4895.org/event/cena-de-gala-solidaria
ATTACH;FMTTYPE=image/jpeg:https://rotary4895.org/wp-content/uploads/2026/04/WhatsApp-Image-2026-04-13-at-11.17.38.jpeg
END:VEVENT
BEGIN:VEVENT
DTSTART;VALUE=DATE:20260510
DTEND;VALUE=DATE:20260511
DTSTAMP:20260422T081558
CREATED:20260316T195541Z
LAST-MODIFIED:20260316T195541Z
UID:12514-1778371200-1778457599@rotary4895.org
SUMMARY:CARRERA ROTARIA
DESCRIPTION:PARA LA COMPRA DEL VACUNATORIO MÓVIL SAN PEDRO 2026
URL:https://rotary4895.org/event/carrera-rotaria
ATTACH;FMTTYPE=image/jpeg:https://rotary4895.org/wp-content/uploads/2026/03/WhatsApp-Image-2026-03-11-at-11.12.50-1.jpeg
END:VEVENT
BEGIN:VEVENT
DTSTART;VALUE=DATE:20260512
DTEND;VALUE=DATE:20260513
DTSTAMP:20260422T081558
CREATED:20260411T013509Z
LAST-MODIFIED:20260411T013509Z
UID:12678-1778544000-1778630399@rotary4895.org
SUMMARY:POLITICAS Y PLANES PARA EL DISTRITO
DESCRIPTION:GUSTAVO TONDI \nGobernador Electo 2026-2027
URL:https://rotary4895.org/event/politicas-y-planes-para-el-distrito
ATTACH;FMTTYPE=image/jpeg:https://rotary4895.org/wp-content/uploads/2026/04/WhatsApp-Image-2026-04-08-at-19.00.52-1.jpeg
END:VEVENT
BEGIN:VEVENT
DTSTART;VALUE=DATE:20260516
DTEND;VALUE=DATE:20260517
DTSTAMP:20260422T081558
CREATED:20260402T145932Z
LAST-MODIFIED:20260402T145932Z
UID:12607-1778889600-1778975999@rotary4895.org
SUMMARY:Operador Socio Terapéutico en Consumos Problemáticos
DESCRIPTION:Modalidad virtual
URL:https://rotary4895.org/event/operador-socio-terapeutico-en-consumos-problematicos
ATTACH;FMTTYPE=image/jpeg:https://rotary4895.org/wp-content/uploads/2026/04/WhatsApp-Image-2026-03-29-at-23.24.39.jpeg
END:VEVENT
BEGIN:VEVENT
DTSTART;VALUE=DATE:20260516
DTEND;VALUE=DATE:20260517
DTSTAMP:20260422T081558
CREATED:20260402T150538Z
LAST-MODIFIED:20260402T150538Z
UID:12627-1778889600-1778975999@rotary4895.org
SUMMARY:Coaching & Mentoring en Inteligencia Emocional
DESCRIPTION:  \n+ Talleres Terapéuticos
URL:https://rotary4895.org/event/coaching-mentoring-en-inteligencia-emocional
ATTACH;FMTTYPE=image/jpeg:https://rotary4895.org/wp-content/uploads/2026/04/WhatsApp-Image-2026-03-29-at-23.24.39-4.jpeg
END:VEVENT
BEGIN:VEVENT
DTSTART;VALUE=DATE:20260516
DTEND;VALUE=DATE:20260517
DTSTAMP:20260422T081559
CREATED:20260402T150716Z
LAST-MODIFIED:20260402T150716Z
UID:12632-1778889600-1778975999@rotary4895.org
SUMMARY:Estimulación Temprana
DESCRIPTION:Modalidad Virtual
URL:https://rotary4895.org/event/estimulacion-temprana
ATTACH;FMTTYPE=image/jpeg:https://rotary4895.org/wp-content/uploads/2026/04/WhatsApp-Image-2026-03-29-at-23.24.40.jpeg
END:VEVENT
BEGIN:VEVENT
DTSTART;VALUE=DATE:20260516
DTEND;VALUE=DATE:20260517
DTSTAMP:20260422T081559
CREATED:20260418T220857Z
LAST-MODIFIED:20260418T220857Z
UID:12799-1778889600-1778975999@rotary4895.org
SUMMARY:XIII ASAMBLEA DISTRITAL
DESCRIPTION:GD GUSTAVO TONDI – 2026-2027 \n16 de Mayo 2026 8:00 a 16 horas.
URL:https://rotary4895.org/event/xiii-asamblea-distrital
ATTACH;FMTTYPE=image/jpeg:https://rotary4895.org/wp-content/uploads/2026/04/WhatsApp-Image-2026-04-18-at-15.45.01.jpeg
END:VEVENT
END:VCALENDAR